BEGIN:VCALENDAR
PRODID:-//eluceo/ical//2.0/EN
VERSION:2.0
CALSCALE:GREGORIAN
BEGIN:VEVENT
UID:b9313bfca39703aa60802b9e74261a11
DTSTAMP:20260425T152645Z
SUMMARY:Training
DESCRIPTION:https://www.sg-kuettigen.ch/kalender/training-77
DTSTART:20260328T090000
DTEND:20260328T110000
LOCATION:Schützenhaus Talmatt\, Küttigen\, Schützenhaus\, 5024 Küttigen
ORGANIZER;CN=Schützengesellschaft Küttigen:mailto:info@sg-kuettigen.ch
END:VEVENT
END:VCALENDAR
