BEGIN:VCALENDAR
PRODID:-//eluceo/ical//2.0/EN
VERSION:2.0
CALSCALE:GREGORIAN
BEGIN:VEVENT
UID:90f3c70bc90a77e7a816e8a3b28f96d6
DTSTAMP:20260425T152733Z
SUMMARY:Training
DESCRIPTION:https://www.sg-kuettigen.ch/kalender/training-78
DTSTART:20260402T180000
DTEND:20260402T193000
LOCATION:Schützenhaus Talmatt\, Küttigen\, Schützenhaus\, 5024 Küttigen
ORGANIZER;CN=Schützengesellschaft Küttigen:mailto:info@sg-kuettigen.ch
END:VEVENT
END:VCALENDAR
