BEGIN:VCALENDAR
PRODID:-//eluceo/ical//2.0/EN
VERSION:2.0
CALSCALE:GREGORIAN
BEGIN:VEVENT
UID:e4c4fbe1ff9c7a367f897f127dc748c4
DTSTAMP:20260425T153926Z
SUMMARY:Training & Vorschiessen Feldschiessen
DESCRIPTION:https://www.sg-kuettigen.ch/kalender/training-vorschiessen-feld
 schiessen
DTSTART:20190523T180000
DTEND:20190523T200000
LOCATION:Schützenhaus Talmatt\, Küttigen\, Schützenhaus\, 5024 Küttigen
ORGANIZER;CN=Schützengesellschaft Küttigen:mailto:info@sg-kuettigen.ch
END:VEVENT
END:VCALENDAR
