BEGIN:VCALENDAR
PRODID:-//eluceo/ical//2.0/EN
VERSION:2.0
CALSCALE:GREGORIAN
BEGIN:VEVENT
UID:69794f7c905ed68772a02bee35667045
DTSTAMP:20260425T152843Z
SUMMARY:Training / Vorschiessen KMS
DESCRIPTION:https://www.sg-kuettigen.ch/kalender/training-vorschiessen-kms
DTSTART:20260409T180000
DTEND:20260409T193000
LOCATION:Schützenhaus Talmatt\, Küttigen\, Schützenhaus\, 5024 Küttigen
ORGANIZER;CN=Schützengesellschaft Küttigen:mailto:info@sg-kuettigen.ch
END:VEVENT
END:VCALENDAR
