BEGIN:VCALENDAR
PRODID:-//eluceo/ical//2.0/EN
VERSION:2.0
CALSCALE:GREGORIAN
BEGIN:VEVENT
UID:8792e32846ca0bef05a8e1669303e9c9
DTSTAMP:20260425T152646Z
SUMMARY:Frühlingscup
DESCRIPTION:https://www.sg-kuettigen.ch/kalender/fruehlingscup-3
DTSTART:20260418T133000
DTEND:20260418T153000
LOCATION:Schützenhaus Talmatt\, Küttigen\, Schützenhaus\, 5024 Küttigen
ORGANIZER;CN=Schützengesellschaft Küttigen:mailto:info@sg-kuettigen.ch
END:VEVENT
END:VCALENDAR
