BEGIN:VCALENDAR
PRODID:-//eluceo/ical//2.0/EN
VERSION:2.0
CALSCALE:GREGORIAN
BEGIN:VEVENT
UID:b4c560323a5401a17cb0d525d7a31e91
DTSTAMP:20260425T153409Z
SUMMARY:Training
DESCRIPTION:https://www.sg-kuettigen.ch/kalender/training-80
DTSTART:20260430T180000
DTEND:20260430T193000
LOCATION:Schützenhaus Talmatt\, Küttigen\, Schützenhaus\, 5024 Küttigen
ORGANIZER;CN=Schützengesellschaft Küttigen:mailto:info@sg-kuettigen.ch
END:VEVENT
END:VCALENDAR
