BEGIN:VCALENDAR
PRODID:-//eluceo/ical//2.0/EN
VERSION:2.0
CALSCALE:GREGORIAN
BEGIN:VEVENT
UID:c66756fd844ea43a8dbe12c742e970dd
DTSTAMP:20260425T154139Z
SUMMARY:Training
DESCRIPTION:https://www.sg-kuettigen.ch/kalender/training-0
DTSTART:20190601T090000
DTEND:20190601T110000
LOCATION:Schützenhaus Talmatt\, Küttigen\, Schützenhaus\, 5024 Küttigen
ORGANIZER;CN=Schützengesellschaft Küttigen:mailto:info@sg-kuettigen.ch
END:VEVENT
END:VCALENDAR
