BEGIN:VCALENDAR
PRODID:-//eluceo/ical//2.0/EN
VERSION:2.0
CALSCALE:GREGORIAN
BEGIN:VEVENT
UID:9275001c564ffc6b1a8597a75a76aa84
DTSTAMP:20260425T154731Z
SUMMARY:FS Training
DESCRIPTION:https://www.sg-kuettigen.ch/kalender/fs-training-16
DTSTART:20260523T090000
DTEND:20260523T110000
LOCATION:Schützenhaus Talmatt\, Küttigen\, Schützenhaus\, 5024 Küttigen
ORGANIZER;CN=Schützengesellschaft Küttigen:mailto:info@sg-kuettigen.ch
END:VEVENT
END:VCALENDAR
