BEGIN:VCALENDAR
PRODID:-//eluceo/ical//2.0/EN
VERSION:2.0
CALSCALE:GREGORIAN
BEGIN:VEVENT
UID:5a19e3cd30b1b85b28b6625235eee7fe
DTSTAMP:20260425T155104Z
SUMMARY:FS Training mit Jungschützen
DESCRIPTION:https://www.sg-kuettigen.ch/kalender/fs-training-mit-jungschuet
 zen-3
DTSTART:20260528T180000
DTEND:20260528T200000
LOCATION:Schützenhaus Talmatt\, Küttigen\, Schützenhaus\, 5024 Küttigen
ORGANIZER;CN=Schützengesellschaft Küttigen:mailto:info@sg-kuettigen.ch
END:VEVENT
END:VCALENDAR
