BEGIN:VCALENDAR
PRODID:-//eluceo/ical//2.0/EN
VERSION:2.0
CALSCALE:GREGORIAN
BEGIN:VEVENT
UID:1e91388aa0633e278af24d19cacd55b6
DTSTAMP:20260425T154343Z
SUMMARY:Training mit Jungschützen
DESCRIPTION:https://www.sg-kuettigen.ch/kalender/training-mit-jungschuetzen
 -4
DTSTART:20260604T180000
DTEND:20260604T200000
LOCATION:Schützenhaus Talmatt\, Küttigen\, Schützenhaus\, 5024 Küttigen
ORGANIZER;CN=Schützengesellschaft Küttigen:mailto:info@sg-kuettigen.ch
END:VEVENT
END:VCALENDAR
