BEGIN:VCALENDAR
PRODID:-//eluceo/ical//2.0/EN
VERSION:2.0
CALSCALE:GREGORIAN
BEGIN:VEVENT
UID:21c2d6f57f0e8fb86e9e18314355f78d
DTSTAMP:20260425T154135Z
SUMMARY:Training
DESCRIPTION:https://www.sg-kuettigen.ch/kalender/training-81
DTSTART:20260611T180000
DTEND:20260611T200000
LOCATION:Schützenhaus Talmatt\, Küttigen\, Schützenhaus\, 5024 Küttigen
ORGANIZER;CN=Schützengesellschaft Küttigen:mailto:info@sg-kuettigen.ch
END:VEVENT
END:VCALENDAR
