BEGIN:VCALENDAR
PRODID:-//eluceo/ical//2.0/EN
VERSION:2.0
CALSCALE:GREGORIAN
BEGIN:VEVENT
UID:0bcdbfaadf1031d14f1028cbedc7a811
DTSTAMP:20260425T153001Z
SUMMARY:Training
DESCRIPTION:https://www.sg-kuettigen.ch/kalender/training-83
DTSTART:20260625T180000
DTEND:20260625T200000
LOCATION:Schützenhaus Talmatt\, Küttigen\, Schützenhaus\, 5024 Küttigen
ORGANIZER;CN=Schützengesellschaft Küttigen:mailto:info@sg-kuettigen.ch
END:VEVENT
END:VCALENDAR
