BEGIN:VCALENDAR
PRODID:-//eluceo/ical//2.0/EN
VERSION:2.0
CALSCALE:GREGORIAN
BEGIN:VEVENT
UID:5fccb91136f4d219e2ca96ac85ccbc91
DTSTAMP:20260425T154055Z
SUMMARY:Vereinsobligatorisch mit Bräteln
DESCRIPTION:https://www.sg-kuettigen.ch/kalender/vereinsobligatorisch-mit-b
 raeteln-6
DTSTART:20260808T093000
DTEND:20260808T110000
LOCATION:Schützenhaus Talmatt\, Küttigen\, Schützenhaus\, 5024 Küttigen
ORGANIZER;CN=Schützengesellschaft Küttigen:mailto:info@sg-kuettigen.ch
END:VEVENT
END:VCALENDAR
