BEGIN:VCALENDAR
PRODID:-//eluceo/ical//2.0/EN
VERSION:2.0
CALSCALE:GREGORIAN
BEGIN:VEVENT
UID:5301878cd489d3562950d18e5f778ee4
DTSTAMP:20260425T154612Z
SUMMARY:Schlussschiessen KMS\, Training\, Absenden
DESCRIPTION:https://www.sg-kuettigen.ch/kirchberg-schuetzenverband/kalender
 /schlussschiessen-kms-training-absenden
DTSTART:20260822T090000
DTEND:20260822T110000
LOCATION:Schützenhaus Talmatt\, Küttigen\, Schützenhaus\, 5024 Küttigen
ORGANIZER;CN=Schützengesellschaft Küttigen:mailto:info@sg-kuettigen.ch
END:VEVENT
END:VCALENDAR
