BEGIN:VCALENDAR
PRODID:-//eluceo/ical//2.0/EN
VERSION:2.0
CALSCALE:GREGORIAN
BEGIN:VEVENT
UID:c36e071e90c416f28ec9af4cbc68e472
DTSTAMP:20260425T152509Z
SUMMARY:Training
DESCRIPTION:https://www.sg-kuettigen.ch/kalender/training-84
DTSTART:20260905T090000
DTEND:20260905T110000
LOCATION:Schützenhaus Talmatt\, Küttigen\, Schützenhaus\, 5024 Küttigen
ORGANIZER;CN=Schützengesellschaft Küttigen:mailto:info@sg-kuettigen.ch
END:VEVENT
END:VCALENDAR
