BEGIN:VCALENDAR
PRODID:-//eluceo/ical//2.0/EN
VERSION:2.0
CALSCALE:GREGORIAN
BEGIN:VEVENT
UID:d340f7337afa15eaa1aba5cd9fa039be
DTSTAMP:20260425T153410Z
SUMMARY:Plauschmatch mit Behörden
DESCRIPTION:https://www.sg-kuettigen.ch/kalender/plauschmatch-mit-behoerden
DTSTART:20260905T133000
DTEND:20260905T160000
LOCATION:Schützenhaus Talmatt\, Küttigen\, Schützenhaus\, 5024 Küttigen
ORGANIZER;CN=Schützengesellschaft Küttigen:mailto:info@sg-kuettigen.ch
END:VEVENT
END:VCALENDAR
