BEGIN:VCALENDAR
PRODID:-//eluceo/ical//2.0/EN
VERSION:2.0
CALSCALE:GREGORIAN
BEGIN:VEVENT
UID:8f59bffad0e66d20cedb5ede70f9ae0d
DTSTAMP:20260425T152525Z
SUMMARY:Endschiessen (1/2)
DESCRIPTION:https://www.sg-kuettigen.ch/kalender/endschiessen-6
DTSTART:20260919T090000
DTEND:20260919T120000
LOCATION:Schützenhaus Talmatt\, Küttigen\, Schützenhaus\, 5024 Küttigen
ORGANIZER;CN=Schützengesellschaft Küttigen:mailto:info@sg-kuettigen.ch
END:VEVENT
BEGIN:VEVENT
UID:c3155564f55979e296e6be35bfe237f4
DTSTAMP:20260425T152525Z
SUMMARY:Endschiessen (2/2)
DESCRIPTION:https://www.sg-kuettigen.ch/kalender/endschiessen-6
DTSTART:20260927T090000
DTEND:20260927T120000
LOCATION:Schützenhaus Talmatt\, Küttigen\, Schützenhaus\, 5024 Küttigen
ORGANIZER;CN=Schützengesellschaft Küttigen:mailto:info@sg-kuettigen.ch
END:VEVENT
END:VCALENDAR
