BEGIN:VCALENDAR
PRODID:-//eluceo/ical//2.0/EN
VERSION:2.0
CALSCALE:GREGORIAN
BEGIN:VEVENT
UID:8297ad5f21a2b437f68da48bed815066
DTSTAMP:20260425T153915Z
SUMMARY:Jahresschlussfeier mit Absenden
DESCRIPTION:https://www.sg-kuettigen.ch/kalender/jahresschlussfeier-mit-abs
 enden
DTSTART:20261114T190000
DTEND:20261114T233000
LOCATION:Restaurant Traube\, Küttigen\, Hauptstrasse 58\, 5024 Küttigen
ORGANIZER;CN=Schützengesellschaft Küttigen:mailto:info@sg-kuettigen.ch
END:VEVENT
END:VCALENDAR
