BEGIN:VCALENDAR
PRODID:-//eluceo/ical//2.0/EN
VERSION:2.0
CALSCALE:GREGORIAN
BEGIN:VEVENT
UID:2491228709a29694f857c39e7cfe04b6
DTSTAMP:20260425T152647Z
SUMMARY:Neujahrsapéro
DESCRIPTION:https://www.sg-kuettigen.ch/kalender/neujahrsapero-2
DTSTART:20270102T110000
DTEND:20270102T140000
LOCATION:Schützenhaus Talmatt\, Küttigen\, Schützenhaus\, 5024 Küttigen
ORGANIZER;CN=Schützengesellschaft Küttigen:mailto:info@sg-kuettigen.ch
END:VEVENT
END:VCALENDAR
