BEGIN:VCALENDAR
PRODID:-//eluceo/ical//2.0/EN
VERSION:2.0
CALSCALE:GREGORIAN
BEGIN:VEVENT
UID:921cc2ac6efda13d394bb6fa474d4cbc
DTSTAMP:20260425T152526Z
SUMMARY:Generalversammlung
DESCRIPTION:https://www.sg-kuettigen.ch/kalender/generalversammlung-4
DTSTART:20270219T200000
DTEND:20270219T220000
LOCATION:Schützenhaus Talmatt\, Küttigen\, Schützenhaus\, 5024 Küttigen
ORGANIZER;CN=Schützengesellschaft Küttigen:mailto:info@sg-kuettigen.ch
END:VEVENT
END:VCALENDAR
