BEGIN:VCALENDAR
PRODID:-//eluceo/ical//2.0/EN
VERSION:2.0
CALSCALE:GREGORIAN
BEGIN:VEVENT
UID:18a51af9b8d4c5b1d870d255f18169e6
DTSTAMP:20260425T154226Z
SUMMARY:12. Sodhubelschiessen 2026\, SG Safenwil (1/5)
DESCRIPTION:https://www.sg-kuettigen.ch/kalender/12-sodhubelschiessen-2026-
 sg-safenwil
DTSTART:20260406T080000
DTEND:20260406T120000
LOCATION:SA im Boden\, Safenwil\, Sodhubelweg 12\, 5745 Safenwil
ORGANIZER;CN=Schützengesellschaft Küttigen:mailto:info@sg-kuettigen.ch
END:VEVENT
BEGIN:VEVENT
UID:8c609520ce498e347e7b89bdcdaf83e4
DTSTAMP:20260425T154226Z
SUMMARY:12. Sodhubelschiessen 2026\, SG Safenwil (2/5)
DESCRIPTION:https://www.sg-kuettigen.ch/kalender/12-sodhubelschiessen-2026-
 sg-safenwil
DTSTART:20260406T130000
DTEND:20260406T160000
LOCATION:SA im Boden\, Safenwil\, Sodhubelweg 12\, 5745 Safenwil
ORGANIZER;CN=Schützengesellschaft Küttigen:mailto:info@sg-kuettigen.ch
END:VEVENT
BEGIN:VEVENT
UID:94efb01da2c709806ebc448593b3c469
DTSTAMP:20260425T154226Z
SUMMARY:12. Sodhubelschiessen 2026\, SG Safenwil (3/5)
DESCRIPTION:https://www.sg-kuettigen.ch/kalender/12-sodhubelschiessen-2026-
 sg-safenwil
DTSTART:20260411T080000
DTEND:20260411T120000
LOCATION:SA im Boden\, Safenwil\, Sodhubelweg 12\, 5745 Safenwil
ORGANIZER;CN=Schützengesellschaft Küttigen:mailto:info@sg-kuettigen.ch
END:VEVENT
BEGIN:VEVENT
UID:b84b14a43ba290b2e1a59edb3a12f38f
DTSTAMP:20260425T154226Z
SUMMARY:12. Sodhubelschiessen 2026\, SG Safenwil (4/5)
DESCRIPTION:https://www.sg-kuettigen.ch/kalender/12-sodhubelschiessen-2026-
 sg-safenwil
DTSTART:20260411T130000
DTEND:20260411T160000
LOCATION:SA im Boden\, Safenwil\, Sodhubelweg 12\, 5745 Safenwil
ORGANIZER;CN=Schützengesellschaft Küttigen:mailto:info@sg-kuettigen.ch
END:VEVENT
BEGIN:VEVENT
UID:a6abd18ec1e77bf8d2871a9b788f09ff
DTSTAMP:20260425T154226Z
SUMMARY:12. Sodhubelschiessen 2026\, SG Safenwil (5/5)
DESCRIPTION:https://www.sg-kuettigen.ch/kalender/12-sodhubelschiessen-2026-
 sg-safenwil
DTSTART:20260412T090000
DTEND:20260412T120000
LOCATION:SA im Boden\, Safenwil\, Sodhubelweg 12\, 5745 Safenwil
ORGANIZER;CN=Schützengesellschaft Küttigen:mailto:info@sg-kuettigen.ch
END:VEVENT
END:VCALENDAR
