BEGIN:VCALENDAR
PRODID:-//eluceo/ical//2.0/EN
VERSION:2.0
CALSCALE:GREGORIAN
BEGIN:VEVENT
UID:1e91e33b4bbbc676a41fcf81664d8f38
DTSTAMP:20260425T153848Z
SUMMARY:Training mit Jungschützen
DESCRIPTION:https://www.sg-kuettigen.ch/kalender/training-mit-jungschuetzen
DTSTART:20190613T180000
DTEND:20190613T200000
LOCATION:Schützenhaus Talmatt\, Küttigen\, Schützenhaus\, 5024 Küttigen
ORGANIZER;CN=Schützengesellschaft Küttigen:mailto:info@sg-kuettigen.ch
END:VEVENT
END:VCALENDAR
