BEGIN:VCALENDAR
PRODID:-//eluceo/ical//2.0/EN
VERSION:2.0
CALSCALE:GREGORIAN
BEGIN:VEVENT
UID:9e409d5c7397e7edb46470dd5146b834
DTSTAMP:20260425T152855Z
SUMMARY:Eidgenössisches Schützenfest\, Chur
DESCRIPTION:https://www.sg-kuettigen.ch/kalender/eidgenoessisches-schuetzen
 fest-chur
DTSTART:20260605T073000
DTEND:20260605T200000
LOCATION:SA Rossboden\, Pulvermühlestrasse 90\, 7000 Chur
ORGANIZER;CN=Schützengesellschaft Küttigen:mailto:info@sg-kuettigen.ch
END:VEVENT
END:VCALENDAR
