BEGIN:VCALENDAR
PRODID:-//eluceo/ical//2.0/EN
VERSION:2.0
CALSCALE:GREGORIAN
BEGIN:VEVENT
UID:a68dc57fd33d9a109ff6776704585721
DTSTAMP:20260425T154142Z
SUMMARY:46. Engelbergschiessen 2026 (1/6)
DESCRIPTION:https://www.sg-kuettigen.ch/kalender/46-engelbergschiessen-2026
DTSTART:20260807T170000
DTEND:20260807T200000
LOCATION:Schützenhaus Dulliken\, Wartburgstrasse 25\, 4657 Dulliken
ORGANIZER;CN=Schützengesellschaft Küttigen:mailto:info@sg-kuettigen.ch
END:VEVENT
BEGIN:VEVENT
UID:8567da1d977e504e0edda580bdf8b9e7
DTSTAMP:20260425T154142Z
SUMMARY:46. Engelbergschiessen 2026 (2/6)
DESCRIPTION:https://www.sg-kuettigen.ch/kalender/46-engelbergschiessen-2026
DTSTART:20260808T080000
DTEND:20260808T120000
LOCATION:Schützenhaus Dulliken\, Wartburgstrasse 25\, 4657 Dulliken
ORGANIZER;CN=Schützengesellschaft Küttigen:mailto:info@sg-kuettigen.ch
END:VEVENT
BEGIN:VEVENT
UID:864072783fd120243efff98f378335f6
DTSTAMP:20260425T154142Z
SUMMARY:46. Engelbergschiessen 2026 (3/6)
DESCRIPTION:https://www.sg-kuettigen.ch/kalender/46-engelbergschiessen-2026
DTSTART:20260808T133000
DTEND:20260808T150000
LOCATION:Schützenhaus Dulliken\, Wartburgstrasse 25\, 4657 Dulliken
ORGANIZER;CN=Schützengesellschaft Küttigen:mailto:info@sg-kuettigen.ch
END:VEVENT
BEGIN:VEVENT
UID:8cf65618e4a140d8c1d64e548ebaa83a
DTSTAMP:20260425T154142Z
SUMMARY:46. Engelbergschiessen 2026 (4/6)
DESCRIPTION:https://www.sg-kuettigen.ch/kalender/46-engelbergschiessen-2026
DTSTART:20260814T170000
DTEND:20260814T200000
LOCATION:Schützenhaus Dulliken\, Wartburgstrasse 25\, 4657 Dulliken
ORGANIZER;CN=Schützengesellschaft Küttigen:mailto:info@sg-kuettigen.ch
END:VEVENT
BEGIN:VEVENT
UID:45d0758627add193f33cdd98d3db173a
DTSTAMP:20260425T154142Z
SUMMARY:46. Engelbergschiessen 2026 (5/6)
DESCRIPTION:https://www.sg-kuettigen.ch/kalender/46-engelbergschiessen-2026
DTSTART:20260815T080000
DTEND:20260815T120000
LOCATION:Schützenhaus Dulliken\, Wartburgstrasse 25\, 4657 Dulliken
ORGANIZER;CN=Schützengesellschaft Küttigen:mailto:info@sg-kuettigen.ch
END:VEVENT
BEGIN:VEVENT
UID:947306bec152c3a0cd0e5ad7772f078f
DTSTAMP:20260425T154142Z
SUMMARY:46. Engelbergschiessen 2026 (6/6)
DESCRIPTION:https://www.sg-kuettigen.ch/kalender/46-engelbergschiessen-2026
DTSTART:20260815T133000
DTEND:20260815T150000
LOCATION:Schützenhaus Dulliken\, Wartburgstrasse 25\, 4657 Dulliken
ORGANIZER;CN=Schützengesellschaft Küttigen:mailto:info@sg-kuettigen.ch
END:VEVENT
END:VCALENDAR
