BEGIN:VCALENDAR
PRODID:-//eluceo/ical//2.0/EN
VERSION:2.0
CALSCALE:GREGORIAN
BEGIN:VEVENT
UID:e40376dbcc712cc0d94ff1d0ad84ccce
DTSTAMP:20260425T155318Z
SUMMARY:42. Frickbergschiessen 2026 (1/5)
DESCRIPTION:https://www.sg-kuettigen.ch/kalender/42-frickbergschiessen-2026
DTSTART:20260919T090000
DTEND:20260919T120000
LOCATION:RSA Schlauen\, Circusstrasse 242\, 5072 Oeschgen
ORGANIZER;CN=Schützengesellschaft Küttigen:mailto:info@sg-kuettigen.ch
END:VEVENT
BEGIN:VEVENT
UID:b87877dd1b292e0ac02ea463ef38eaf0
DTSTAMP:20260425T155318Z
SUMMARY:42. Frickbergschiessen 2026 (2/5)
DESCRIPTION:https://www.sg-kuettigen.ch/kalender/42-frickbergschiessen-2026
DTSTART:20260919T133000
DTEND:20260919T160000
LOCATION:RSA Schlauen\, Circusstrasse 242\, 5072 Oeschgen
ORGANIZER;CN=Schützengesellschaft Küttigen:mailto:info@sg-kuettigen.ch
END:VEVENT
BEGIN:VEVENT
UID:b7d1d25316afcbca52046cab22763cac
DTSTAMP:20260425T155318Z
SUMMARY:42. Frickbergschiessen 2026 (3/5)
DESCRIPTION:https://www.sg-kuettigen.ch/kalender/42-frickbergschiessen-2026
DTSTART:20260926T090000
DTEND:20260926T120000
LOCATION:RSA Schlauen\, Circusstrasse 242\, 5072 Oeschgen
ORGANIZER;CN=Schützengesellschaft Küttigen:mailto:info@sg-kuettigen.ch
END:VEVENT
BEGIN:VEVENT
UID:0883c74fde0eeb434d5706560bfa4f21
DTSTAMP:20260425T155318Z
SUMMARY:42. Frickbergschiessen 2026 (4/5)
DESCRIPTION:https://www.sg-kuettigen.ch/kalender/42-frickbergschiessen-2026
DTSTART:20260926T133000
DTEND:20260926T160000
LOCATION:RSA Schlauen\, Circusstrasse 242\, 5072 Oeschgen
ORGANIZER;CN=Schützengesellschaft Küttigen:mailto:info@sg-kuettigen.ch
END:VEVENT
BEGIN:VEVENT
UID:ec8a3230196caba5af15be5559fdffe3
DTSTAMP:20260425T155318Z
SUMMARY:42. Frickbergschiessen 2026 (5/5)
DESCRIPTION:https://www.sg-kuettigen.ch/kalender/42-frickbergschiessen-2026
DTSTART:20260927T090000
DTEND:20260927T120000
LOCATION:RSA Schlauen\, Circusstrasse 242\, 5072 Oeschgen
ORGANIZER;CN=Schützengesellschaft Küttigen:mailto:info@sg-kuettigen.ch
END:VEVENT
END:VCALENDAR
