BEGIN:VCALENDAR
PRODID:-//eluceo/ical//2.0/EN
VERSION:2.0
CALSCALE:GREGORIAN
BEGIN:VEVENT
UID:9f95bb0d87d6ecc391aa0e96b7f67801
DTSTAMP:20260425T154509Z
SUMMARY:Theorieabend mit Gewehrabgabe
DESCRIPTION:https://www.sg-kuettigen.ch/jungschuetzen/kalender/theorieabend
 -mit-gewehrabgabe-2
DTSTART:20260320T190000
DTEND:20260320T220000
LOCATION:Schützenhaus Talmatt\, Küttigen\, Schützenhaus\, 5024 Küttigen
ORGANIZER;CN=Schützengesellschaft Küttigen:mailto:info@sg-kuettigen.ch
END:VEVENT
END:VCALENDAR
