BEGIN:VCALENDAR
PRODID:-//eluceo/ical//2.0/EN
VERSION:2.0
CALSCALE:GREGORIAN
BEGIN:VEVENT
UID:56d41269fd423b99f0b013c4c5d40a7f
DTSTAMP:20260425T152838Z
SUMMARY:1. Schiesstag
DESCRIPTION:https://www.sg-kuettigen.ch/jungschuetzen/kalender/1-schiesstag
DTSTART:20260321T133000
DTEND:20260321T173000
LOCATION:Schützenhaus Talmatt\, Küttigen\, Schützenhaus\, 5024 Küttigen
ORGANIZER;CN=Schützengesellschaft Küttigen:mailto:info@sg-kuettigen.ch
END:VEVENT
END:VCALENDAR
