BEGIN:VCALENDAR
PRODID:-//eluceo/ical//2.0/EN
VERSION:2.0
CALSCALE:GREGORIAN
BEGIN:VEVENT
UID:3906a653e7787f8b37fc4c46ec97bb7f
DTSTAMP:20260425T154929Z
SUMMARY:2. Schiesstag
DESCRIPTION:https://www.sg-kuettigen.ch/jungschuetzen/kalender/2-schiesstag
DTSTART:20260328T133000
DTEND:20260328T163000
LOCATION:Schützenhaus Talmatt\, Küttigen\, Schützenhaus\, 5024 Küttigen
ORGANIZER;CN=Schützengesellschaft Küttigen:mailto:info@sg-kuettigen.ch
END:VEVENT
END:VCALENDAR
