BEGIN:VCALENDAR
PRODID:-//eluceo/ical//2.0/EN
VERSION:2.0
CALSCALE:GREGORIAN
BEGIN:VEVENT
UID:51b9996f36f39946f2e8f7be2d0475de
DTSTAMP:20260425T154701Z
SUMMARY:4. Schiesstag
DESCRIPTION:https://www.sg-kuettigen.ch/jungschuetzen/kalender/4-schiesstag
DTSTART:20260411T133000
DTEND:20260411T163000
LOCATION:Schützenhaus Talmatt\, Küttigen\, Schützenhaus\, 5024 Küttigen
ORGANIZER;CN=Schützengesellschaft Küttigen:mailto:info@sg-kuettigen.ch
END:VEVENT
END:VCALENDAR
