BEGIN:VCALENDAR
PRODID:-//eluceo/ical//2.0/EN
VERSION:2.0
CALSCALE:GREGORIAN
BEGIN:VEVENT
UID:e4a0cf9fd7666e942df392c18d17f097
DTSTAMP:20260425T154926Z
SUMMARY:Eröffnungsschiessen Kirchbergmeisterschaft
DESCRIPTION:https://www.sg-kuettigen.ch/jungschuetzen/kalender/eroeffnungss
 chiessen-kirchbergmeisterschaft
DTSTART:20260418T090000
DTEND:20260418T113000
LOCATION:Schützenhaus Talmatt\, Küttigen\, Schützenhaus\, 5024 Küttigen
ORGANIZER;CN=Schützengesellschaft Küttigen:mailto:info@sg-kuettigen.ch
END:VEVENT
END:VCALENDAR
