BEGIN:VCALENDAR
PRODID:-//eluceo/ical//2.0/EN
VERSION:2.0
CALSCALE:GREGORIAN
BEGIN:VEVENT
UID:b02cf01351ba7b364a6b1682781461c0
DTSTAMP:20260425T153408Z
SUMMARY:Training
DESCRIPTION:https://www.sg-kuettigen.ch/kalender/training-1
DTSTART:20190622T090000
DTEND:20190622T110000
LOCATION:Schützenhaus Talmatt\, Küttigen\, Schützenhaus\, 5024 Küttigen
ORGANIZER;CN=Schützengesellschaft Küttigen:mailto:info@sg-kuettigen.ch
END:VEVENT
END:VCALENDAR
