BEGIN:VCALENDAR
PRODID:-//eluceo/ical//2.0/EN
VERSION:2.0
CALSCALE:GREGORIAN
BEGIN:VEVENT
UID:5746814380fc5985eb13a6cda13680f6
DTSTAMP:20260425T153232Z
SUMMARY:Jungschützen Kurstag
DESCRIPTION:https://www.sg-kuettigen.ch/jungschuetzen/kalender/jungschuetze
 n-kurstag
DTSTART:20260425T083000
DTEND:20260425T163000
LOCATION:Schützenhaus Talmatt\, Küttigen\, Schützenhaus\, 5024 Küttigen
ORGANIZER;CN=Schützengesellschaft Küttigen:mailto:info@sg-kuettigen.ch
END:VEVENT
END:VCALENDAR
