BEGIN:VCALENDAR
PRODID:-//eluceo/ical//2.0/EN
VERSION:2.0
CALSCALE:GREGORIAN
BEGIN:VEVENT
UID:64ab6642001c27abd6f4f31027edbc8b
DTSTAMP:20260425T154336Z
SUMMARY:7. Schiesstag
DESCRIPTION:https://www.sg-kuettigen.ch/jungschuetzen/kalender/7-schiesstag
DTSTART:20260523T133000
DTEND:20260523T163000
LOCATION:Schützenhaus Talmatt\, Küttigen\, Schützenhaus\, 5024 Küttigen
ORGANIZER;CN=Schützengesellschaft Küttigen:mailto:info@sg-kuettigen.ch
END:VEVENT
END:VCALENDAR
