BEGIN:VCALENDAR
PRODID:-//eluceo/ical//2.0/EN
VERSION:2.0
CALSCALE:GREGORIAN
BEGIN:VEVENT
UID:7ccbfda0641a51fa56f0330aaa484fea
DTSTAMP:20260425T152834Z
SUMMARY:8. Schiesstag
DESCRIPTION:https://www.sg-kuettigen.ch/jungschuetzen/kalender/8-schiesstag
DTSTART:20260528T174500
DTEND:20260528T200000
LOCATION:Schützenhaus Talmatt\, Küttigen\, Schützenhaus\, 5024 Küttigen
ORGANIZER;CN=Schützengesellschaft Küttigen:mailto:info@sg-kuettigen.ch
END:VEVENT
END:VCALENDAR
