BEGIN:VCALENDAR
PRODID:-//eluceo/ical//2.0/EN
VERSION:2.0
CALSCALE:GREGORIAN
BEGIN:VEVENT
UID:d4560e70cf664226c5ce0b7bc12aa934
DTSTAMP:20260425T153342Z
SUMMARY:Nachschiessen & freiwilliges Schiessen
DESCRIPTION:https://www.sg-kuettigen.ch/jungschuetzen/kalender/nachschiesse
 n-freiwilliges-schiessen
DTSTART:20260604T174500
DTEND:20260604T200000
LOCATION:Schützenhaus Talmatt\, Küttigen\, Schützenhaus\, 5024 Küttigen
ORGANIZER;CN=Schützengesellschaft Küttigen:mailto:info@sg-kuettigen.ch
END:VEVENT
END:VCALENDAR
