BEGIN:VCALENDAR
PRODID:-//eluceo/ical//2.0/EN
VERSION:2.0
CALSCALE:GREGORIAN
BEGIN:VEVENT
UID:70bd662aa3bbf262288ac861fe9c64b8
DTSTAMP:20260425T154938Z
SUMMARY:Wettschiessen
DESCRIPTION:https://www.sg-kuettigen.ch/jungschuetzen/kalender/wettschiesse
 n-2
DTSTART:20260613T130000
DTEND:20260613T160000
LOCATION:Schiessanlage Büelhalde\, Densbüren\, Cholhaldeweg\, 5026 Densb
 üren
ORGANIZER;CN=Schützengesellschaft Küttigen:mailto:info@sg-kuettigen.ch
END:VEVENT
END:VCALENDAR
