BEGIN:VCALENDAR
PRODID:-//eluceo/ical//2.0/EN
VERSION:2.0
CALSCALE:GREGORIAN
BEGIN:VEVENT
UID:1492e7f71a1183d9108e0d53fcec8175
DTSTAMP:20260425T152528Z
SUMMARY:Jungschützen-Cup
DESCRIPTION:https://www.sg-kuettigen.ch/jungschuetzen/kalender/jungschuetze
 n-cup-2
DTSTART:20260620T133000
DTEND:20260620T163000
LOCATION:Schützenhaus Talmatt\, Küttigen\, Schützenhaus\, 5024 Küttigen
ORGANIZER;CN=Schützengesellschaft Küttigen:mailto:info@sg-kuettigen.ch
END:VEVENT
END:VCALENDAR
