BEGIN:VCALENDAR
PRODID:-//eluceo/ical//2.0/EN
VERSION:2.0
CALSCALE:GREGORIAN
BEGIN:VEVENT
UID:b1ec785e8fb5d0f711be6f792ecbfffd
DTSTAMP:20260425T155045Z
SUMMARY:Freundschaftsschiessen
DESCRIPTION:https://www.sg-kuettigen.ch/jungschuetzen/kalender/freundschaft
 sschiessen-0
DTSTART:20260808T133000
DTEND:20260808T163000
LOCATION:Schützenhaus Talmatt\, Küttigen\, Schützenhaus\, 5024 Küttigen
ORGANIZER;CN=Schützengesellschaft Küttigen:mailto:info@sg-kuettigen.ch
END:VEVENT
END:VCALENDAR
