BEGIN:VCALENDAR
PRODID:-//eluceo/ical//2.0/EN
VERSION:2.0
CALSCALE:GREGORIAN
BEGIN:VEVENT
UID:f639638d1639ee94bc29fc886588f235
DTSTAMP:20260425T154838Z
SUMMARY:Training
DESCRIPTION:https://www.sg-kuettigen.ch/kalender/training-2
DTSTART:20190627T180000
DTEND:20190627T200000
LOCATION:Schützenhaus Talmatt\, Küttigen\, Schützenhaus\, 5024 Küttigen
ORGANIZER;CN=Schützengesellschaft Küttigen:mailto:info@sg-kuettigen.ch
END:VEVENT
END:VCALENDAR
