BEGIN:VCALENDAR
PRODID:-//eluceo/ical//2.0/EN
VERSION:2.0
CALSCALE:GREGORIAN
BEGIN:VEVENT
UID:767fd3bd223663d73da1a42f7795e3e2
DTSTAMP:20260425T153340Z
SUMMARY:Pistolenschiessen
DESCRIPTION:https://www.sg-kuettigen.ch/jungschuetzen/kalender/pistolenschi
 essen
DTSTART:20260815T130000
DTEND:20260815T170000
LOCATION:Shooting Inn\, Oberentfelden\, Köllikerstrasse 32\, 5036 Oberentf
 elden
ORGANIZER;CN=Schützengesellschaft Küttigen:mailto:info@sg-kuettigen.ch
END:VEVENT
END:VCALENDAR
