BEGIN:VCALENDAR
PRODID:-//eluceo/ical//2.0/EN
VERSION:2.0
CALSCALE:GREGORIAN
BEGIN:VEVENT
UID:239e0bb9595bdf0875a010b7f45b2204
DTSTAMP:20260425T153849Z
SUMMARY:Schlussschiessen Kirchbergmeisterschaft
DESCRIPTION:https://www.sg-kuettigen.ch/jungschuetzen/kalender/schlussschie
 ssen-kirchbergmeisterschaft
DTSTART:20260822T083000
DTEND:20260822T140000
LOCATION:Schützenhaus Talmatt\, Küttigen\, Schützenhaus\, 5024 Küttigen
ORGANIZER;CN=Schützengesellschaft Küttigen:mailto:info@sg-kuettigen.ch
END:VEVENT
END:VCALENDAR
