BEGIN:VCALENDAR
PRODID:-//eluceo/ical//2.0/EN
VERSION:2.0
CALSCALE:GREGORIAN
BEGIN:VEVENT
UID:618f9d2b1b0bf1c432717a6f92b5f29f
DTSTAMP:20260425T154730Z
SUMMARY:1. Obligatorischer Schiesstag: Warnern & Putzdienst
DESCRIPTION:https://www.sg-kuettigen.ch/jungschuetzen/kalender/1-obligatori
 scher-schiesstag-warnern-putzdienst
DTSTART:20260509T090000
DTEND:20260509T113000
LOCATION:Schützenhaus Talmatt\, Küttigen\, Schützenhaus\, 5024 Küttigen
ORGANIZER;CN=Schützengesellschaft Küttigen:mailto:info@sg-kuettigen.ch
END:VEVENT
END:VCALENDAR
