BEGIN:VCALENDAR
PRODID:-//eluceo/ical//2.0/EN
VERSION:2.0
CALSCALE:GREGORIAN
BEGIN:VEVENT
UID:85e5938f213561e6a9ac2d3d8a7a7c5c
DTSTAMP:20260425T155203Z
SUMMARY:2. Obligatorischer Schiesstag: Warnern & Putzdienst
DESCRIPTION:https://www.sg-kuettigen.ch/jungschuetzen/kalender/2-obligatori
 scher-schiesstag-warnern-putzdienst
DTSTART:20260827T173000
DTEND:20260827T200000
LOCATION:Schützenhaus Talmatt\, Küttigen\, Schützenhaus\, 5024 Küttigen
ORGANIZER;CN=Schützengesellschaft Küttigen:mailto:info@sg-kuettigen.ch
END:VEVENT
END:VCALENDAR
