BEGIN:VCALENDAR
PRODID:-//eluceo/ical//2.0/EN
VERSION:2.0
CALSCALE:GREGORIAN
BEGIN:VEVENT
UID:bb70129d4fd6d536f6ec7386575a7e01
DTSTAMP:20260425T153229Z
SUMMARY:Gewehrputzen & Gewehrabgabe
DESCRIPTION:https://www.sg-kuettigen.ch/jungschuetzen/kalender/gewehrputzen
 -gewehrabgabe-2
DTSTART:20261003T133000
DTEND:20261003T163000
LOCATION:Schützenhaus Talmatt\, Küttigen\, Schützenhaus\, 5024 Küttigen
ORGANIZER;CN=Schützengesellschaft Küttigen:mailto:info@sg-kuettigen.ch
END:VEVENT
END:VCALENDAR
