BEGIN:VCALENDAR
PRODID:-//eluceo/ical//2.0/EN
VERSION:2.0
CALSCALE:GREGORIAN
BEGIN:VEVENT
UID:fd5e9126a96c427b8aaae8591df0ae57
DTSTAMP:20260425T154439Z
SUMMARY:Testschiessen StGw 90 Zubehör
DESCRIPTION:https://www.sg-kuettigen.ch/kirchberg-schuetzenverband/kalender
 /testschiessen-stgw-90-zubehoer
DTSTART:20260808T123000
DTEND:20260808T163000
LOCATION:Schiessanlage Büelhalde\, Densbüren\, Cholhaldeweg\, 5026 Densb
 üren
ORGANIZER;CN=Schützengesellschaft Küttigen:mailto:info@sg-kuettigen.ch
END:VEVENT
END:VCALENDAR
