BEGIN:VCALENDAR
PRODID:-//eluceo/ical//2.0/EN
VERSION:2.0
CALSCALE:GREGORIAN
BEGIN:VEVENT
UID:cf6074fd6efd142462bb1ae70d82eb0a
DTSTAMP:20260425T154048Z
SUMMARY:Freiburger Kantonalschützenfest (1/2)
DESCRIPTION:https://www.sg-kuettigen.ch/kalender/freiburger-kantonalschuetz
 enfest
DTSTART:20190713T080000
DTEND:20190713T120000
LOCATION:Schützenhaus Talmatt\, Küttigen\, Schützenhaus\, 5024 Küttigen
ORGANIZER;CN=Schützengesellschaft Küttigen:mailto:info@sg-kuettigen.ch
END:VEVENT
BEGIN:VEVENT
UID:a1f48b37e6e87cc43d6ea79e64e2f4c3
DTSTAMP:20260425T154048Z
SUMMARY:Freiburger Kantonalschützenfest (2/2)
DESCRIPTION:https://www.sg-kuettigen.ch/kalender/freiburger-kantonalschuetz
 enfest
DTSTART:20190713T133000
DTEND:20190713T190000
LOCATION:Schützenhaus Talmatt\, Küttigen\, Schützenhaus\, 5024 Küttigen
ORGANIZER;CN=Schützengesellschaft Küttigen:mailto:info@sg-kuettigen.ch
END:VEVENT
END:VCALENDAR
