BEGIN:VCALENDAR
PRODID:-//eluceo/ical//2.0/EN
VERSION:2.0
CALSCALE:GREGORIAN
BEGIN:VEVENT
UID:75eef81c994427b8f0c050caed2e9992
DTSTAMP:20260425T153321Z
SUMMARY:Training & Vorschiessen Schlussschiessen Kirchbergmeisterschaft
DESCRIPTION:https://www.sg-kuettigen.ch/kalender/training-vorschiessen-schl
 ussschiessen-kirchbergmeisterschaft
DTSTART:20190815T180000
DTEND:20190815T200000
LOCATION:Schützenhaus Talmatt\, Küttigen\, Schützenhaus\, 5024 Küttigen
ORGANIZER;CN=Schützengesellschaft Küttigen:mailto:info@sg-kuettigen.ch
END:VEVENT
END:VCALENDAR
