BEGIN:VCALENDAR
PRODID:-//eluceo/ical//2.0/EN
VERSION:2.0
CALSCALE:GREGORIAN
BEGIN:VEVENT
UID:e6ba576058f1f6f1dc6516244a1248ac
DTSTAMP:20260425T153926Z
SUMMARY:444 Jahre Sportschützen Seengen (1/6)
DESCRIPTION:https://www.sg-kuettigen.ch/kalender/444-jahre-sportschuetzen-s
 eengen
DTSTART:20190823T160000
DTEND:20190823T200000
LOCATION:Schiessanlage Roos\, Seengen\, Roosweg\, 5707 Seengen
ORGANIZER;CN=Schützengesellschaft Küttigen:mailto:info@sg-kuettigen.ch
END:VEVENT
BEGIN:VEVENT
UID:5ce13198d893df1a78e03dd061254146
DTSTAMP:20260425T153926Z
SUMMARY:444 Jahre Sportschützen Seengen (2/6)
DESCRIPTION:https://www.sg-kuettigen.ch/kalender/444-jahre-sportschuetzen-s
 eengen
DTSTART:20190824T083000
DTEND:20190824T120000
LOCATION:Schiessanlage Roos\, Seengen\, Roosweg\, 5707 Seengen
ORGANIZER;CN=Schützengesellschaft Küttigen:mailto:info@sg-kuettigen.ch
END:VEVENT
BEGIN:VEVENT
UID:1956b9a598ec2bad17d1b9f7e2f4ffb7
DTSTAMP:20260425T153926Z
SUMMARY:444 Jahre Sportschützen Seengen (3/6)
DESCRIPTION:https://www.sg-kuettigen.ch/kalender/444-jahre-sportschuetzen-s
 eengen
DTSTART:20190824T133000
DTEND:20190824T170000
LOCATION:Schiessanlage Roos\, Seengen\, Roosweg\, 5707 Seengen
ORGANIZER;CN=Schützengesellschaft Küttigen:mailto:info@sg-kuettigen.ch
END:VEVENT
BEGIN:VEVENT
UID:7bae934493532db787f05f65103c150b
DTSTAMP:20260425T153926Z
SUMMARY:444 Jahre Sportschützen Seengen (4/6)
DESCRIPTION:https://www.sg-kuettigen.ch/kalender/444-jahre-sportschuetzen-s
 eengen
DTSTART:20190830T160000
DTEND:20190830T200000
LOCATION:Schiessanlage Roos\, Seengen\, Roosweg\, 5707 Seengen
ORGANIZER;CN=Schützengesellschaft Küttigen:mailto:info@sg-kuettigen.ch
END:VEVENT
BEGIN:VEVENT
UID:a6aa33017df1e9ae25eae2d2af0cde5f
DTSTAMP:20260425T153926Z
SUMMARY:444 Jahre Sportschützen Seengen (5/6)
DESCRIPTION:https://www.sg-kuettigen.ch/kalender/444-jahre-sportschuetzen-s
 eengen
DTSTART:20190831T083000
DTEND:20190831T120000
LOCATION:Schiessanlage Roos\, Seengen\, Roosweg\, 5707 Seengen
ORGANIZER;CN=Schützengesellschaft Küttigen:mailto:info@sg-kuettigen.ch
END:VEVENT
BEGIN:VEVENT
UID:eb8c7a982bbaea28f2702117528c24d9
DTSTAMP:20260425T153926Z
SUMMARY:444 Jahre Sportschützen Seengen (6/6)
DESCRIPTION:https://www.sg-kuettigen.ch/kalender/444-jahre-sportschuetzen-s
 eengen
DTSTART:20190831T133000
DTEND:20190831T170000
LOCATION:Schiessanlage Roos\, Seengen\, Roosweg\, 5707 Seengen
ORGANIZER;CN=Schützengesellschaft Küttigen:mailto:info@sg-kuettigen.ch
END:VEVENT
END:VCALENDAR
