BEGIN:VCALENDAR
PRODID:-//eluceo/ical//2.0/EN
VERSION:2.0
CALSCALE:GREGORIAN
BEGIN:VEVENT
UID:08e64fe52314705547fd3f870ebb6e72
DTSTAMP:20260425T153927Z
SUMMARY:Bezirksverbandschiessen Aarau\, SG Gränichen (1/2)
DESCRIPTION:https://www.sg-kuettigen.ch/kalender/bezirksverbandschiessen-aa
 rau-sg-graenichen
DTSTART:20190906T180000
DTEND:20190906T193000
LOCATION:Schiessanlage Obertel\, Suhr\, Obertelweg\, 5034 Suhr
ORGANIZER;CN=Schützengesellschaft Küttigen:mailto:info@sg-kuettigen.ch
END:VEVENT
BEGIN:VEVENT
UID:efacc7c9d1ca36cb508e9fb1630676bf
DTSTAMP:20260425T153927Z
SUMMARY:Bezirksverbandschiessen Aarau\, SG Gränichen (2/2)
DESCRIPTION:https://www.sg-kuettigen.ch/kalender/bezirksverbandschiessen-aa
 rau-sg-graenichen
DTSTART:20190914T090000
DTEND:20190914T113000
LOCATION:Schiessanlage Obertel\, Suhr\, Obertelweg\, 5034 Suhr
ORGANIZER;CN=Schützengesellschaft Küttigen:mailto:info@sg-kuettigen.ch
END:VEVENT
END:VCALENDAR
