BEGIN:VCALENDAR
PRODID:-//eluceo/ical//2.0/EN
VERSION:2.0
CALSCALE:GREGORIAN
BEGIN:VEVENT
UID:e68c87c874a480d60b2a625cb8aebcd0
DTSTAMP:20260425T154133Z
SUMMARY:Training
DESCRIPTION:https://www.sg-kuettigen.ch/kalender/training-4
DTSTART:20190907T090000
DTEND:20190907T110000
LOCATION:Schützenhaus Talmatt\, Küttigen\, Schützenhaus\, 5024 Küttigen
ORGANIZER;CN=Schützengesellschaft Küttigen:mailto:info@sg-kuettigen.ch
END:VEVENT
END:VCALENDAR
